BEGIN:VCALENDAR
VERSION:2.0
PRODID:-//Los Angeles City/County Native American Indian Commission - ECPv6.15.20//NONSGML v1.0//EN
CALSCALE:GREGORIAN
METHOD:PUBLISH
X-WR-CALNAME:Los Angeles City/County Native American Indian Commission
X-ORIGINAL-URL:https://lanaic.lacounty.gov
X-WR-CALDESC:Events for Los Angeles City/County Native American Indian Commission
REFRESH-INTERVAL;VALUE=DURATION:PT1H
X-Robots-Tag:noindex
X-PUBLISHED-TTL:PT1H
BEGIN:VTIMEZONE
TZID:America/Los_Angeles
BEGIN:DAYLIGHT
TZOFFSETFROM:-0800
TZOFFSETTO:-0700
TZNAME:PDT
DTSTART:20170312T100000
END:DAYLIGHT
BEGIN:STANDARD
TZOFFSETFROM:-0700
TZOFFSETTO:-0800
TZNAME:PST
DTSTART:20171105T090000
END:STANDARD
BEGIN:DAYLIGHT
TZOFFSETFROM:-0800
TZOFFSETTO:-0700
TZNAME:PDT
DTSTART:20180311T100000
END:DAYLIGHT
BEGIN:STANDARD
TZOFFSETFROM:-0700
TZOFFSETTO:-0800
TZNAME:PST
DTSTART:20181104T090000
END:STANDARD
BEGIN:DAYLIGHT
TZOFFSETFROM:-0800
TZOFFSETTO:-0700
TZNAME:PDT
DTSTART:20190310T100000
END:DAYLIGHT
BEGIN:STANDARD
TZOFFSETFROM:-0700
TZOFFSETTO:-0800
TZNAME:PST
DTSTART:20191103T090000
END:STANDARD
END:VTIMEZONE
BEGIN:VEVENT
DTSTART;TZID=America/Los_Angeles:20180515T183000
DTEND;TZID=America/Los_Angeles:20180515T193000
DTSTAMP:20260420T155754
CREATED:20180516T133247Z
LAST-MODIFIED:20180516T133921Z
UID:28646-1526409000-1526412600@lanaic.lacounty.gov
SUMMARY:Self Governance Board meeting
DESCRIPTION:View Agenda
URL:https://lanaic.lacounty.gov/events/self-governance-board-meeting-may-2018/
LOCATION:KENNETH HAHN HALL OF ADMINISTRATION\, 500 W. Temple Street\, Los Angeles\, 90012\, United States
CATEGORIES:Commission,Meetings
ATTACH;FMTTYPE=image/jpeg:https://lanaic.lacounty.gov/wp-content/uploads/2018/05/SGB-Meeting-Agenda-May-2018.jpg
END:VEVENT
BEGIN:VEVENT
DTSTART;TZID=America/Los_Angeles:20180515T190000
DTEND;TZID=America/Los_Angeles:20180515T200000
DTSTAMP:20260420T155754
CREATED:20180516T133537Z
LAST-MODIFIED:20180516T133858Z
UID:28652-1526410800-1526414400@lanaic.lacounty.gov
SUMMARY:LA City/County Native American Indian Commission
DESCRIPTION:View Agenda
URL:https://lanaic.lacounty.gov/events/self-governance-board-meeting-may-2018-2/
LOCATION:KENNETH HAHN HALL OF ADMINISTRATION\, 500 W. Temple Street\, Los Angeles\, 90012\, United States
CATEGORIES:Commission,Committee Meetings,Meetings
ATTACH;FMTTYPE=image/jpeg:https://lanaic.lacounty.gov/wp-content/uploads/2018/05/LANAIC-May-2018.jpg
END:VEVENT
BEGIN:VEVENT
DTSTART;TZID=America/Los_Angeles:20180517T120000
DTEND;TZID=America/Los_Angeles:20180603T170000
DTSTAMP:20260420T155754
CREATED:20180515T133930Z
LAST-MODIFIED:20180515T133930Z
UID:28641-1526558400-1528045200@lanaic.lacounty.gov
SUMMARY:The People's Home
DESCRIPTION:May 18\, 2018 • 7pm-10pm \nMay 17 thru June 3\, 2018 \n12:00pm-6:00pm Thursday and Friday\n11:00am-6:00pm Saturday\n11:00am-5:00pm Sunday\n118 Winston Street\, 2nd Fl\, Los Angeles\, CA
URL:https://lanaic.lacounty.gov/events/the-peoples-home/
CATEGORIES:Community
ATTACH;FMTTYPE=image/jpeg:https://lanaic.lacounty.gov/wp-content/uploads/2018/05/30815890_1788104647899532_4918035097404150368_o.jpg
END:VEVENT
BEGIN:VEVENT
DTSTART;TZID=America/Los_Angeles:20180519T190000
DTEND;TZID=America/Los_Angeles:20180519T220000
DTSTAMP:20260420T155754
CREATED:20180515T130546Z
LAST-MODIFIED:20180515T131052Z
UID:28617-1526756400-1526767200@lanaic.lacounty.gov
SUMMARY:To Native Beauty
DESCRIPTION:Live Performances\, Music\, Artwork and Spoken Word Poetry by Native Artist.  All Proceeds Benefit UAII:  Proudly Serving our Community.  Tickets Can be Purchased on Event Brite:\n RSVP Event Brite\nIntercontinental Hotel Downtown Los Angeles • Grand Entry 7pm-10pm • Saturday\, May 19th\, 2018\nFeaturing • Tracy Lee Nelson • Miracle Dolls • Suzanne Kite • Raye Zaragoza • Carolina Hoyos\n\n  \n 
URL:https://lanaic.lacounty.gov/events/to-native-beauty/
LOCATION:Intercontinental Hotel\, 900 Wilshire Blvd\, Los Angeles\, CA\, 90017\, United States
CATEGORIES:Art - Film,Books - Literature,Community
ATTACH;FMTTYPE=image/jpeg:https://lanaic.lacounty.gov/wp-content/uploads/2018/05/NativeBeauty2018-2.jpg
END:VEVENT
END:VCALENDAR